BEGIN:VCALENDAR
VERSION:2.0
PRODID:-//Port Jefferson Station - BSA Troop 354 - ECPv6.2.3.2//NONSGML v1.0//EN
CALSCALE:GREGORIAN
METHOD:PUBLISH
X-ORIGINAL-URL:https://bsatroop354.com
X-WR-CALDESC:Events for Port Jefferson Station - BSA Troop 354
REFRESH-INTERVAL;VALUE=DURATION:PT1H
X-Robots-Tag:noindex
X-PUBLISHED-TTL:PT1H
BEGIN:VTIMEZONE
TZID:America/New_York
BEGIN:DAYLIGHT
TZOFFSETFROM:-0500
TZOFFSETTO:-0400
TZNAME:EDT
DTSTART:20190310T070000
END:DAYLIGHT
BEGIN:STANDARD
TZOFFSETFROM:-0400
TZOFFSETTO:-0500
TZNAME:EST
DTSTART:20191103T060000
END:STANDARD
END:VTIMEZONE
BEGIN:VEVENT
DTSTART;TZID=America/New_York:20190928T090000
DTEND;TZID=America/New_York:20190929T120000
DTSTAMP:20260421T155406
CREATED:20190916T193331Z
LAST-MODIFIED:20190916T193331Z
UID:2962-1569661200-1569758400@bsatroop354.com
SUMMARY:Cathedral Pines Campout
DESCRIPTION:This is an over night campout at Cathedral Pines\, Middle Island.  We will meet at the high school tennis courts parking lot at 9:00 am Saturday morning \nWe will be coming home middle to late Sunday morning\, we will call when getting back to HS. \nThis is a bike campout\, so the boys should bring their bikes\, helmets\, etc. \nBecause it is close\, the boys can come and go as needed with other activities. \nShopping for food will be the Thursday evening 9/26\, 7:30 at BJs. \nI may need help transporting the boys to and from camp.
URL:https://bsatroop354.com/event/cathedral-pines-campout-2/
END:VEVENT
END:VCALENDAR