BEGIN:VCALENDAR
VERSION:2.0
PRODID:-//Port Jefferson Station - BSA Troop 354 - ECPv6.2.3.2//NONSGML v1.0//EN
CALSCALE:GREGORIAN
METHOD:PUBLISH
X-ORIGINAL-URL:https://bsatroop354.com
X-WR-CALDESC:Events for Port Jefferson Station - BSA Troop 354
REFRESH-INTERVAL;VALUE=DURATION:PT1H
X-Robots-Tag:noindex
X-PUBLISHED-TTL:PT1H
BEGIN:VTIMEZONE
TZID:America/New_York
BEGIN:DAYLIGHT
TZOFFSETFROM:-0500
TZOFFSETTO:-0400
TZNAME:EDT
DTSTART:20190310T070000
END:DAYLIGHT
BEGIN:STANDARD
TZOFFSETFROM:-0400
TZOFFSETTO:-0500
TZNAME:EST
DTSTART:20191103T060000
END:STANDARD
END:VTIMEZONE
BEGIN:VEVENT
DTSTART;TZID=America/New_York:20190923T193000
DTEND;TZID=America/New_York:20190923T210000
DTSTAMP:20260421T155406
CREATED:20190902T144322Z
LAST-MODIFIED:20190911T181710Z
UID:2928-1569267000-1569272400@bsatroop354.com
SUMMARY:Troop Meeting
DESCRIPTION:Clinton Avenue School\, 7:30 pm to 9:00 pm\, Class B uniforms. \nMum Order Forms and money due back to Liz Roder.
URL:https://bsatroop354.com/event/troop-meeting-104/
LOCATION:Clinton Avenue Elementary School\, 140 Clinton Avenue\, WX45+5M Port Jefferson Station\, NY\, 11776\, United States
END:VEVENT
END:VCALENDAR