BEGIN:VCALENDAR
VERSION:2.0
PRODID:-//Port Jefferson Station - BSA Troop 354 - ECPv6.2.3.2//NONSGML v1.0//EN
CALSCALE:GREGORIAN
METHOD:PUBLISH
X-WR-CALNAME:Port Jefferson Station - BSA Troop 354
X-ORIGINAL-URL:https://bsatroop354.com
X-WR-CALDESC:Events for Port Jefferson Station - BSA Troop 354
REFRESH-INTERVAL;VALUE=DURATION:PT1H
X-Robots-Tag:noindex
X-PUBLISHED-TTL:PT1H
BEGIN:VTIMEZONE
TZID:America/New_York
BEGIN:DAYLIGHT
TZOFFSETFROM:-0500
TZOFFSETTO:-0400
TZNAME:EDT
DTSTART:20190310T070000
END:DAYLIGHT
BEGIN:STANDARD
TZOFFSETFROM:-0400
TZOFFSETTO:-0500
TZNAME:EST
DTSTART:20191103T060000
END:STANDARD
END:VTIMEZONE
BEGIN:VEVENT
DTSTART;TZID=America/New_York:20190511T100000
DTEND;TZID=America/New_York:20190511T123000
DTSTAMP:20260421T234012
CREATED:20190426T173452Z
LAST-MODIFIED:20190426T173452Z
UID:2724-1557568800-1557577800@bsatroop354.com
SUMMARY:Sculpture Merit Badge
DESCRIPTION:Mr. Reed has very graciously arranged to run a Sculpture Merit badge session at the Long Island Museum on Saturday May 11 from 10:00 am till about 12:30 pm \nThere will be guided tour and a class room session where the boys will work with some clay. \nWe will have a Pizza lunch after that\, and the cost for this event is $10.00 per person. \nClass B uniforms\, it’s being held at Long Island Museum\, 1200 Route 25A in Stony Brook\, 10:00 am sharp\, see separate email for more details.
URL:https://bsatroop354.com/event/sculpture-merit-badge/
END:VEVENT
END:VCALENDAR