BEGIN:VCALENDAR
VERSION:2.0
PRODID:-//Port Jefferson Station - BSA Troop 354 - ECPv6.2.3.2//NONSGML v1.0//EN
CALSCALE:GREGORIAN
METHOD:PUBLISH
X-ORIGINAL-URL:https://bsatroop354.com
X-WR-CALDESC:Events for Port Jefferson Station - BSA Troop 354
REFRESH-INTERVAL;VALUE=DURATION:PT1H
X-Robots-Tag:noindex
X-PUBLISHED-TTL:PT1H
BEGIN:VTIMEZONE
TZID:America/New_York
BEGIN:DAYLIGHT
TZOFFSETFROM:-0500
TZOFFSETTO:-0400
TZNAME:EDT
DTSTART:20180311T070000
END:DAYLIGHT
BEGIN:STANDARD
TZOFFSETFROM:-0400
TZOFFSETTO:-0500
TZNAME:EST
DTSTART:20181104T060000
END:STANDARD
END:VTIMEZONE
BEGIN:VEVENT
DTSTART;TZID=America/New_York:20181208T090000
DTEND;TZID=America/New_York:20181208T150000
DTSTAMP:20260422T091229
CREATED:20181120T195120Z
LAST-MODIFIED:20181120T195120Z
UID:2331-1544259600-1544281200@bsatroop354.com
SUMMARY:Terryville Fire Department Run/Walk
DESCRIPTION:This is the Terryville Fire Department Run/Walk for a Claus event.  The Terryville Fire Department has asked us to run a water table for handing out water. We will be supporting this starting at 9:00 am and continuing into the late afternoon. \nThere will be more details in a separate email. \nWe will need the boys help\, and we will divide up the supporting times for the day.
URL:https://bsatroop354.com/event/terryville-fire-department-run-walk/
END:VEVENT
END:VCALENDAR