BEGIN:VCALENDAR
VERSION:2.0
PRODID:-//Port Jefferson Station - BSA Troop 354 - ECPv6.2.3.2//NONSGML v1.0//EN
CALSCALE:GREGORIAN
METHOD:PUBLISH
X-ORIGINAL-URL:https://bsatroop354.com
X-WR-CALDESC:Events for Port Jefferson Station - BSA Troop 354
REFRESH-INTERVAL;VALUE=DURATION:PT1H
X-Robots-Tag:noindex
X-PUBLISHED-TTL:PT1H
BEGIN:VTIMEZONE
TZID:America/New_York
BEGIN:DAYLIGHT
TZOFFSETFROM:-0500
TZOFFSETTO:-0400
TZNAME:EDT
DTSTART:20180311T070000
END:DAYLIGHT
BEGIN:STANDARD
TZOFFSETFROM:-0400
TZOFFSETTO:-0500
TZNAME:EST
DTSTART:20181104T060000
END:STANDARD
END:VTIMEZONE
BEGIN:VEVENT
DTSTART;TZID=America/New_York:20181117T100000
DTEND;TZID=America/New_York:20181117T130000
DTSTAMP:20260422T104033
CREATED:20181106T183802Z
LAST-MODIFIED:20181106T183802Z
UID:2321-1542448800-1542459600@bsatroop354.com
SUMMARY:Tristan Greisch’s Eagle Project\, 2nd Phase
DESCRIPTION:This is the second phase of Tristan Greisch’s Eagle Scout project.  It will be at the Terryville elementary school starting at 10:00 am.
URL:https://bsatroop354.com/event/tristan-greischs-eagle-project-2nd-phase/
END:VEVENT
END:VCALENDAR