BEGIN:VCALENDAR
VERSION:2.0
PRODID:-//Port Jefferson Station - BSA Troop 354 - ECPv6.2.3.2//NONSGML v1.0//EN
CALSCALE:GREGORIAN
METHOD:PUBLISH
X-WR-CALNAME:Port Jefferson Station - BSA Troop 354
X-ORIGINAL-URL:https://bsatroop354.com
X-WR-CALDESC:Events for Port Jefferson Station - BSA Troop 354
REFRESH-INTERVAL;VALUE=DURATION:PT1H
X-Robots-Tag:noindex
X-PUBLISHED-TTL:PT1H
BEGIN:VTIMEZONE
TZID:America/New_York
BEGIN:DAYLIGHT
TZOFFSETFROM:-0500
TZOFFSETTO:-0400
TZNAME:EDT
DTSTART:20180311T070000
END:DAYLIGHT
BEGIN:STANDARD
TZOFFSETFROM:-0400
TZOFFSETTO:-0500
TZNAME:EST
DTSTART:20181104T060000
END:STANDARD
END:VTIMEZONE
BEGIN:VEVENT
DTSTART;TZID=America/New_York:20181007T100000
DTEND;TZID=America/New_York:20181007T110000
DTSTAMP:20260422T122738
CREATED:20180912T144550Z
LAST-MODIFIED:20180912T144550Z
UID:2245-1538906400-1538910000@bsatroop354.com
SUMMARY:Mum’s Flower Sale Pickup
DESCRIPTION:This is the Pickup of your Mum’s order at the Norwood Elementary School. \nThe time will be determined later after we find out from the distributer. \nPlease plan on picking up your order on this day.  We have no place to store orders not picked up.
URL:https://bsatroop354.com/event/mums-flower-sale-pickup/
END:VEVENT
END:VCALENDAR