BEGIN:VCALENDAR
VERSION:2.0
PRODID:-//Port Jefferson Station - BSA Troop 354 - ECPv6.2.3.2//NONSGML v1.0//EN
CALSCALE:GREGORIAN
METHOD:PUBLISH
X-WR-CALNAME:Port Jefferson Station - BSA Troop 354
X-ORIGINAL-URL:https://bsatroop354.com
X-WR-CALDESC:Events for Port Jefferson Station - BSA Troop 354
REFRESH-INTERVAL;VALUE=DURATION:PT1H
X-Robots-Tag:noindex
X-PUBLISHED-TTL:PT1H
BEGIN:VTIMEZONE
TZID:America/New_York
BEGIN:DAYLIGHT
TZOFFSETFROM:-0500
TZOFFSETTO:-0400
TZNAME:EDT
DTSTART:20180311T070000
END:DAYLIGHT
BEGIN:STANDARD
TZOFFSETFROM:-0400
TZOFFSETTO:-0500
TZNAME:EST
DTSTART:20181104T060000
END:STANDARD
END:VTIMEZONE
BEGIN:VEVENT
DTSTART;TZID=America/New_York:20180924T193000
DTEND;TZID=America/New_York:20180924T210000
DTSTAMP:20260422T140712
CREATED:20180824T175140Z
LAST-MODIFIED:20180912T144228Z
UID:2234-1537817400-1537822800@bsatroop354.com
SUMMARY:Troop Meeting
DESCRIPTION:lass B uniforms\, Clinton Avenue School\, 7:30 pm to 9:00 pm \nWe will be working on advancement to get ready for the Court of Honor next Monday \nAnyone wanting to attend the Backpacking trip should tell us this evening so we can plan the teams
URL:https://bsatroop354.com/event/troop-meeting-74/
LOCATION:Clinton Avenue Elementary School\, 140 Clinton Avenue\, WX45+5M Port Jefferson Station\, NY\, 11776\, United States
END:VEVENT
END:VCALENDAR