BEGIN:VCALENDAR
VERSION:2.0
PRODID:-//Port Jefferson Station - BSA Troop 354 - ECPv6.2.3.2//NONSGML v1.0//EN
CALSCALE:GREGORIAN
METHOD:PUBLISH
X-WR-CALNAME:Port Jefferson Station - BSA Troop 354
X-ORIGINAL-URL:https://bsatroop354.com
X-WR-CALDESC:Events for Port Jefferson Station - BSA Troop 354
REFRESH-INTERVAL;VALUE=DURATION:PT1H
X-Robots-Tag:noindex
X-PUBLISHED-TTL:PT1H
BEGIN:VTIMEZONE
TZID:America/New_York
BEGIN:DAYLIGHT
TZOFFSETFROM:-0500
TZOFFSETTO:-0400
TZNAME:EDT
DTSTART:20180311T070000
END:DAYLIGHT
BEGIN:STANDARD
TZOFFSETFROM:-0400
TZOFFSETTO:-0500
TZNAME:EST
DTSTART:20181104T060000
END:STANDARD
END:VTIMEZONE
BEGIN:VEVENT
DTSTART;TZID=America/New_York:20180908T100000
DTEND;TZID=America/New_York:20180908T123000
DTSTAMP:20260422T140713
CREATED:20180824T175054Z
LAST-MODIFIED:20180824T175054Z
UID:2232-1536400800-1536409800@bsatroop354.com
SUMMARY:Personal Fitness Merit Badge Follow up
DESCRIPTION:This is the date of the Personal Fitness Merit badge follow up. \nThe boys should have been working on their exercising this summer\, and filling out their charts. \nWe will meet this day to do the follow up exercises to hopefully show improvement. \nThe boys need to bring their personal fitness MB packets with the charts filled out\, a pencil\, comfortable clothing\, a towel and a drink.
URL:https://bsatroop354.com/event/personal-fitness-merit-badge-follow-up/
END:VEVENT
END:VCALENDAR