BEGIN:VCALENDAR
VERSION:2.0
PRODID:-//Port Jefferson Station - BSA Troop 354 - ECPv6.2.3.2//NONSGML v1.0//EN
CALSCALE:GREGORIAN
METHOD:PUBLISH
X-ORIGINAL-URL:https://bsatroop354.com
X-WR-CALDESC:Events for Port Jefferson Station - BSA Troop 354
REFRESH-INTERVAL;VALUE=DURATION:PT1H
X-Robots-Tag:noindex
X-PUBLISHED-TTL:PT1H
BEGIN:VTIMEZONE
TZID:America/New_York
BEGIN:DAYLIGHT
TZOFFSETFROM:-0500
TZOFFSETTO:-0400
TZNAME:EDT
DTSTART:20180311T070000
END:DAYLIGHT
BEGIN:STANDARD
TZOFFSETFROM:-0400
TZOFFSETTO:-0500
TZNAME:EST
DTSTART:20181104T060000
END:STANDARD
END:VTIMEZONE
BEGIN:VEVENT
DTSTART;TZID=America/New_York:20180519T090000
DTEND;TZID=America/New_York:20180520T120000
DTSTAMP:20260422T213335
CREATED:20180503T181339Z
LAST-MODIFIED:20180503T181339Z
UID:2061-1526720400-1526817600@bsatroop354.com
SUMMARY:Blydenburgh Bike Campout
DESCRIPTION:This is a bike campout weekend.  And it is reasonably close so the boys and come and go as needed. \nWe could not use Cathedral Pines because that park was taken by another event. \nWe will shop for food this Thursday evening\, 5/17/18\, 7:30 pm at BJs. \nWe will meet to travel to the park at 9:00 am on Saturday morning 5/19 at the high school tennis courts parking lot \nWe will be back home late Sunday morning\, and we will call you all when we are close to being back at the high school. \nPlease let me know if your boy will be attending by the Monday night meeting\, 5/14/18. \nThe cost for food for the trip will be $20.00 per boy\, adults are no charge. \nGet your bikes ready\, and bring your helmets. \nWe can use help transporting the boys and bikes to and from camp\, so let me know if you can help. \nClass B uniforms
URL:https://bsatroop354.com/event/blydenburgh-bike-campout/
END:VEVENT
END:VCALENDAR