BEGIN:VCALENDAR
VERSION:2.0
PRODID:-//Port Jefferson Station - BSA Troop 354 - ECPv6.2.3.2//NONSGML v1.0//EN
CALSCALE:GREGORIAN
METHOD:PUBLISH
X-WR-CALNAME:Port Jefferson Station - BSA Troop 354
X-ORIGINAL-URL:https://bsatroop354.com
X-WR-CALDESC:Events for Port Jefferson Station - BSA Troop 354
REFRESH-INTERVAL;VALUE=DURATION:PT1H
X-Robots-Tag:noindex
X-PUBLISHED-TTL:PT1H
BEGIN:VTIMEZONE
TZID:America/New_York
BEGIN:DAYLIGHT
TZOFFSETFROM:-0500
TZOFFSETTO:-0400
TZNAME:EDT
DTSTART:20180311T070000
END:DAYLIGHT
BEGIN:STANDARD
TZOFFSETFROM:-0400
TZOFFSETTO:-0500
TZNAME:EST
DTSTART:20181104T060000
END:STANDARD
END:VTIMEZONE
BEGIN:VEVENT
DTSTART;TZID=America/New_York:20180512T080000
DTEND;TZID=America/New_York:20180512T120000
DTSTAMP:20260422T213336
CREATED:20180503T181158Z
LAST-MODIFIED:20180503T181158Z
UID:2058-1526112000-1526126400@bsatroop354.com
SUMMARY:Mother’s Day flower sale sorting and pickup
DESCRIPTION:This is the Mother’s day flower sorting and pickup at Norwood Elementary school in the morning. \nThe times will be announced later.  We need help with the sorting\, and please plan on picking up your flowers that morning.
URL:https://bsatroop354.com/event/mothers-day-flower-sale-sorting-and-pickup/
END:VEVENT
END:VCALENDAR