BEGIN:VCALENDAR
VERSION:2.0
PRODID:-//Port Jefferson Station - BSA Troop 354 - ECPv6.2.3.2//NONSGML v1.0//EN
CALSCALE:GREGORIAN
METHOD:PUBLISH
X-WR-CALNAME:Port Jefferson Station - BSA Troop 354
X-ORIGINAL-URL:https://bsatroop354.com
X-WR-CALDESC:Events for Port Jefferson Station - BSA Troop 354
REFRESH-INTERVAL;VALUE=DURATION:PT1H
X-Robots-Tag:noindex
X-PUBLISHED-TTL:PT1H
BEGIN:VTIMEZONE
TZID:America/New_York
BEGIN:DAYLIGHT
TZOFFSETFROM:-0500
TZOFFSETTO:-0400
TZNAME:EDT
DTSTART:20170312T070000
END:DAYLIGHT
BEGIN:STANDARD
TZOFFSETFROM:-0400
TZOFFSETTO:-0500
TZNAME:EST
DTSTART:20171105T060000
END:STANDARD
END:VTIMEZONE
BEGIN:VEVENT
DTSTART;TZID=America/New_York:20171113T193000
DTEND;TZID=America/New_York:20171113T210000
DTSTAMP:20260423T072505
CREATED:20171113T132351Z
LAST-MODIFIED:20171221T154344Z
UID:1837-1510601400-1510606800@bsatroop354.com
SUMMARY:Troop Meeting - Game Night
DESCRIPTION:Monday Night Meeting\, 11/13/17\, GAME NIGHT! \nTonight is a game night.  This is just a fun night\, and the boys should bring down a game that they want to play with others. \nClass B uniforms
URL:https://bsatroop354.com/event/monday-night-meeting-game-night/
ATTACH;FMTTYPE=image/gif:https://bsatroop354.com/wp-content/uploads/2017/09/b.gif
END:VEVENT
END:VCALENDAR