BEGIN:VCALENDAR
VERSION:2.0
PRODID:-//Port Jefferson Station - BSA Troop 354 - ECPv6.2.3.2//NONSGML v1.0//EN
CALSCALE:GREGORIAN
METHOD:PUBLISH
X-WR-CALNAME:Port Jefferson Station - BSA Troop 354
X-ORIGINAL-URL:https://bsatroop354.com
X-WR-CALDESC:Events for Port Jefferson Station - BSA Troop 354
REFRESH-INTERVAL;VALUE=DURATION:PT1H
X-Robots-Tag:noindex
X-PUBLISHED-TTL:PT1H
BEGIN:VTIMEZONE
TZID:America/New_York
BEGIN:DAYLIGHT
TZOFFSETFROM:-0500
TZOFFSETTO:-0400
TZNAME:EDT
DTSTART:20170312T070000
END:DAYLIGHT
BEGIN:STANDARD
TZOFFSETFROM:-0400
TZOFFSETTO:-0500
TZNAME:EST
DTSTART:20171105T060000
END:STANDARD
END:VTIMEZONE
BEGIN:VEVENT
DTSTART;TZID=America/New_York:20170918T193000
DTEND;TZID=America/New_York:20170918T210000
DTSTAMP:20260423T105657
CREATED:20170908T175359Z
LAST-MODIFIED:20170920T230307Z
UID:1714-1505763000-1505768400@bsatroop354.com
SUMMARY:Troop Meeting
DESCRIPTION:Regular Meeting night\, 7:30 pm to 9:00 pm at Clinton Ave. School\,\nBoys will start working on the Golf Merit badge this evening. Please have the boys bring a golf putter with them this evening. \nClass B uniforms \nMums Fundraiser (PDF)
URL:https://bsatroop354.com/event/troop-meeting-65/
ATTACH;FMTTYPE=image/gif:https://bsatroop354.com/wp-content/uploads/2017/09/b.gif
END:VEVENT
END:VCALENDAR