BEGIN:VCALENDAR
VERSION:2.0
PRODID:-//Port Jefferson Station - BSA Troop 354 - ECPv6.2.3.2//NONSGML v1.0//EN
CALSCALE:GREGORIAN
METHOD:PUBLISH
X-ORIGINAL-URL:https://bsatroop354.com
X-WR-CALDESC:Events for Port Jefferson Station - BSA Troop 354
REFRESH-INTERVAL;VALUE=DURATION:PT1H
X-Robots-Tag:noindex
X-PUBLISHED-TTL:PT1H
BEGIN:VTIMEZONE
TZID:America/New_York
BEGIN:DAYLIGHT
TZOFFSETFROM:-0500
TZOFFSETTO:-0400
TZNAME:EDT
DTSTART:20170312T070000
END:DAYLIGHT
BEGIN:STANDARD
TZOFFSETFROM:-0400
TZOFFSETTO:-0500
TZNAME:EST
DTSTART:20171105T060000
END:STANDARD
END:VTIMEZONE
BEGIN:VEVENT
DTSTART;TZID=America/New_York:20170626T193000
DTEND;TZID=America/New_York:20170626T210000
DTSTAMP:20260423T141853
CREATED:20170601T141123Z
LAST-MODIFIED:20170601T141123Z
UID:1167-1498505400-1498510800@bsatroop354.com
SUMMARY:Troop Meeting - Court of Honor Night
DESCRIPTION:Court of Honor night to be held at the Elk’s lodge in Centereach\, 41 Horseblock Road \nEveryone is invited to see the boys receive the awards they have earned over the past few months. \nFinal payment for dues and Yawgoog are due this evening. \nAfter the COH\, we can talk with anyone with questions about anything\, including Yawgoog. \nClass A uniforms
URL:https://bsatroop354.com/event/troop-meeting-court-of-honor-night/
ATTACH;FMTTYPE=image/png:https://bsatroop354.com/wp-content/uploads/2017/06/boy-scout-court-of-honor.png
END:VEVENT
END:VCALENDAR