BEGIN:VCALENDAR
VERSION:2.0
PRODID:-//Port Jefferson Station - BSA Troop 354 - ECPv6.2.3.2//NONSGML v1.0//EN
CALSCALE:GREGORIAN
METHOD:PUBLISH
X-WR-CALNAME:Port Jefferson Station - BSA Troop 354
X-ORIGINAL-URL:https://bsatroop354.com
X-WR-CALDESC:Events for Port Jefferson Station - BSA Troop 354
REFRESH-INTERVAL;VALUE=DURATION:PT1H
X-Robots-Tag:noindex
X-PUBLISHED-TTL:PT1H
BEGIN:VTIMEZONE
TZID:America/New_York
BEGIN:DAYLIGHT
TZOFFSETFROM:-0500
TZOFFSETTO:-0400
TZNAME:EDT
DTSTART:20170312T070000
END:DAYLIGHT
BEGIN:STANDARD
TZOFFSETFROM:-0400
TZOFFSETTO:-0500
TZNAME:EST
DTSTART:20171105T060000
END:STANDARD
END:VTIMEZONE
BEGIN:VEVENT
DTSTART;TZID=America/New_York:20170610T100000
DTEND;TZID=America/New_York:20170610T110000
DTSTAMP:20260423T164126
CREATED:20170601T140240Z
LAST-MODIFIED:20170601T141553Z
UID:1154-1497088800-1497092400@bsatroop354.com
SUMMARY:Saturday at Stony Brook Museum
DESCRIPTION:We are organizing a trip to the Stony Brook Museum for Sculpture Merit Badge. \nThis will be from 10:00 am to 11:00 am\, and will cost $5.00 per boy\, $10 for adults. \nYou need to let us know if you plan on attending this. \nClass B uniforms
URL:https://bsatroop354.com/event/saturday-at-stony-brook-museum/
ATTACH;FMTTYPE=image/jpeg:https://bsatroop354.com/wp-content/uploads/2017/06/download.jpg
END:VEVENT
END:VCALENDAR