BEGIN:VCALENDAR
VERSION:2.0
PRODID:-//Port Jefferson Station - BSA Troop 354 - ECPv6.2.3.2//NONSGML v1.0//EN
CALSCALE:GREGORIAN
METHOD:PUBLISH
X-WR-CALNAME:Port Jefferson Station - BSA Troop 354
X-ORIGINAL-URL:https://bsatroop354.com
X-WR-CALDESC:Events for Port Jefferson Station - BSA Troop 354
REFRESH-INTERVAL;VALUE=DURATION:PT1H
X-Robots-Tag:noindex
X-PUBLISHED-TTL:PT1H
BEGIN:VTIMEZONE
TZID:America/New_York
BEGIN:DAYLIGHT
TZOFFSETFROM:-0500
TZOFFSETTO:-0400
TZNAME:EDT
DTSTART:20170312T070000
END:DAYLIGHT
BEGIN:STANDARD
TZOFFSETFROM:-0400
TZOFFSETTO:-0500
TZNAME:EST
DTSTART:20171105T060000
END:STANDARD
END:VTIMEZONE
BEGIN:VEVENT
DTSTART;VALUE=DATE:20170603
DTEND;VALUE=DATE:20170605
DTSTAMP:20260423T164126
CREATED:20170509T115039Z
LAST-MODIFIED:20170601T141357Z
UID:1133-1496448000-1496620799@bsatroop354.com
SUMMARY:Cathedral Pines Camping Trip w/ a Search & Rescue Merit Badge weekend
DESCRIPTION:We are planning a campout at Cathedral Pines this weekend. \n$20.00 per boy for the food for the weekend\, they should bring their bikes and helmets\, and we will be doing a Search and Rescue MB program. \nWe will be running a Search and Rescue merit badge program on the campout.  There is a flier attached about the plans. \nThe boys can bring their bikes and helmets\, and maybe pads if they wear them on the dirt trails.  There are many dirt bike trails around the park. We may need help transporting the bikes. \nWe are camping overnight\, and  we will shop for food for the campout at BJs on Thursday evening 6/1 at 7:30 pm.  This will take about an hour. \nFor those boys new to the campouts\, the troop supplies the tents.  The boys should bring their sleeping bags\, and a cushion to sleep on.  They don’t need much in the way of clothing because it will probably be warm\, but maybe a sweatshirt for at night\, and one change of clothes\, and some clothes to sleep in\, poncho and flashlight. \nWe will go to Cathedral Pines in Middle Island after the Calverton flag pickup\, campout overnight\, and come home late Sunday morning\, or maybe early Sunday afternoon depending on the Search and Rescue plans. \nFor those that have other things going on\, this campout is convenient because it’s close\, and the boys can come and go as needed to make their other activities. \nBut remember we will be doing a Search and Rescue MB (click here for more info SARMeritBadgeFlyer ) program that the boys will need to be there for to complete the badge if they are doing that. \nIf the boy is not there for the events\, they might not be able to finish the badge that weekend.
URL:https://bsatroop354.com/event/cathedral-pines-camping-trip/
ATTACH;FMTTYPE=image/jpeg:https://bsatroop354.com/wp-content/uploads/2017/05/cathedralpines2.jpg
END:VEVENT
END:VCALENDAR