BEGIN:VCALENDAR
VERSION:2.0
PRODID:-//Port Jefferson Station - BSA Troop 354 - ECPv6.2.3.2//NONSGML v1.0//EN
CALSCALE:GREGORIAN
METHOD:PUBLISH
X-WR-CALNAME:Port Jefferson Station - BSA Troop 354
X-ORIGINAL-URL:https://bsatroop354.com
X-WR-CALDESC:Events for Port Jefferson Station - BSA Troop 354
REFRESH-INTERVAL;VALUE=DURATION:PT1H
X-Robots-Tag:noindex
X-PUBLISHED-TTL:PT1H
BEGIN:VTIMEZONE
TZID:America/New_York
BEGIN:DAYLIGHT
TZOFFSETFROM:-0500
TZOFFSETTO:-0400
TZNAME:EDT
DTSTART:20170312T070000
END:DAYLIGHT
BEGIN:STANDARD
TZOFFSETFROM:-0400
TZOFFSETTO:-0500
TZNAME:EST
DTSTART:20171105T060000
END:STANDARD
END:VTIMEZONE
BEGIN:VEVENT
DTSTART;VALUE=DATE:20170529
DTEND;VALUE=DATE:20170530
DTSTAMP:20260423T164126
CREATED:20170509T113942Z
LAST-MODIFIED:20170509T113942Z
UID:1124-1496016000-1496102399@bsatroop354.com
SUMMARY:Memorial Day
DESCRIPTION:Memorial Day – No Meeting\, 5/29/17 \nThis is Memorial Day\, no school\, and no scout meeting
URL:https://bsatroop354.com/event/memorial-day/
ATTACH;FMTTYPE=image/jpeg:https://bsatroop354.com/wp-content/uploads/2017/05/Memorial-Day-2017.jpg
END:VEVENT
END:VCALENDAR