BEGIN:VCALENDAR
VERSION:2.0
PRODID:-//Port Jefferson Station - BSA Troop 354 - ECPv6.2.3.2//NONSGML v1.0//EN
CALSCALE:GREGORIAN
METHOD:PUBLISH
X-ORIGINAL-URL:https://bsatroop354.com
X-WR-CALDESC:Events for Port Jefferson Station - BSA Troop 354
REFRESH-INTERVAL;VALUE=DURATION:PT1H
X-Robots-Tag:noindex
X-PUBLISHED-TTL:PT1H
BEGIN:VTIMEZONE
TZID:America/New_York
BEGIN:DAYLIGHT
TZOFFSETFROM:-0500
TZOFFSETTO:-0400
TZNAME:EDT
DTSTART:20170312T070000
END:DAYLIGHT
BEGIN:STANDARD
TZOFFSETFROM:-0400
TZOFFSETTO:-0500
TZNAME:EST
DTSTART:20171105T060000
END:STANDARD
END:VTIMEZONE
BEGIN:VEVENT
DTSTART;TZID=America/New_York:20170521T150000
DTEND;TZID=America/New_York:20170521T170000
DTSTAMP:20260423T181657
CREATED:20170512T182501Z
LAST-MODIFIED:20170512T182501Z
UID:1141-1495378800-1495386000@bsatroop354.com
SUMMARY:Eagle Scout Fundraiser
DESCRIPTION:Adam Derenches Eagle Scout bowling fundraiser. Mark your calendars\, and please let Adam know if you can make it. See attached. \nEagle Fundraiser Flier
URL:https://bsatroop354.com/event/eagle-scout-fundraiser-5/
END:VEVENT
END:VCALENDAR