BEGIN:VCALENDAR
VERSION:2.0
PRODID:-//Port Jefferson Station - BSA Troop 354 - ECPv6.2.3.2//NONSGML v1.0//EN
CALSCALE:GREGORIAN
METHOD:PUBLISH
X-ORIGINAL-URL:https://bsatroop354.com
X-WR-CALDESC:Events for Port Jefferson Station - BSA Troop 354
REFRESH-INTERVAL;VALUE=DURATION:PT1H
X-Robots-Tag:noindex
X-PUBLISHED-TTL:PT1H
BEGIN:VTIMEZONE
TZID:America/New_York
BEGIN:DAYLIGHT
TZOFFSETFROM:-0500
TZOFFSETTO:-0400
TZNAME:EDT
DTSTART:20170312T070000
END:DAYLIGHT
BEGIN:STANDARD
TZOFFSETFROM:-0400
TZOFFSETTO:-0500
TZNAME:EST
DTSTART:20171105T060000
END:STANDARD
TZID:America/New_York
BEGIN:DAYLIGHT
TZOFFSETFROM:-0500
TZOFFSETTO:-0400
TZNAME:EDT
DTSTART:20170312T070000
END:DAYLIGHT
BEGIN:STANDARD
TZOFFSETFROM:-0400
TZOFFSETTO:-0500
TZNAME:EST
DTSTART:20171105T060000
END:STANDARD
END:VTIMEZONE
BEGIN:VEVENT
DTSTART;TZID=America/New_York:20170429T060000
DTEND;TZID=America/New_York:20170430T140000
DTSTAMP:20260423T200942
CREATED:20170322T190246Z
LAST-MODIFIED:20170418T150052Z
UID:1048-1493445600-1493560800@bsatroop354.com
SUMMARY:Backpacking Trip
DESCRIPTION:We will be going to Harriman State Park and visiting Island Pond. We will camp by the pond and take a hike to “Lemon Squeezer”\, We will leave early Saturday morning\, and come back Sunday before sundown. \nIsland Pond (Google Maps)
URL:https://bsatroop354.com/event/backpacking-trip-4/
END:VEVENT
BEGIN:VEVENT
DTSTART;TZID=America/New_York:20170429T100000
DTEND;TZID=America/New_York:20170429T160000
DTSTAMP:20260423T200942
CREATED:20170328T203043Z
LAST-MODIFIED:20170328T203043Z
UID:1066-1493460000-1493481600@bsatroop354.com
SUMMARY:Cubs for Cubs
DESCRIPTION:Coming up on Saturday\, April 29\, 2017 at the Longwood Estate in Ridge we will be holding our annual Cubs for Cubs event from 10am-4pm.  In the past we’ve asked the packs to attend as well as to run a booth which unfortunately prohibited parents from spending time at the event with their sons.  This year we wanted to ask our troops to provide a few members to run the activities that day.  We’re not looking for full troop participation but only 2 or 4 boys and adults to run an activity.  The district has put together a list of the activities we’re looking to do and we will provide the materials necessary to run it.  In addition to helping out the district it also provides an opportunity for the boy scouts to be present and visible to the cub scouts.  We thank you for the consideration and assistance.
URL:https://bsatroop354.com/event/cubs-for-cubs/
END:VEVENT
END:VCALENDAR