BEGIN:VCALENDAR
VERSION:2.0
PRODID:-//Port Jefferson Station - BSA Troop 354 - ECPv6.2.3.2//NONSGML v1.0//EN
CALSCALE:GREGORIAN
METHOD:PUBLISH
X-WR-CALNAME:Port Jefferson Station - BSA Troop 354
X-ORIGINAL-URL:https://bsatroop354.com
X-WR-CALDESC:Events for Port Jefferson Station - BSA Troop 354
REFRESH-INTERVAL;VALUE=DURATION:PT1H
X-Robots-Tag:noindex
X-PUBLISHED-TTL:PT1H
BEGIN:VTIMEZONE
TZID:America/New_York
BEGIN:DAYLIGHT
TZOFFSETFROM:-0500
TZOFFSETTO:-0400
TZNAME:EDT
DTSTART:20160313T070000
END:DAYLIGHT
BEGIN:STANDARD
TZOFFSETFROM:-0400
TZOFFSETTO:-0500
TZNAME:EST
DTSTART:20161106T060000
END:STANDARD
END:VTIMEZONE
BEGIN:VEVENT
DTSTART;TZID=America/New_York:20160618T100000
DTEND;TZID=America/New_York:20160618T110000
DTSTAMP:20260424T142636
CREATED:20160613T123533Z
LAST-MODIFIED:20160613T123533Z
UID:676-1466244000-1466247600@bsatroop354.com
SUMMARY:Personal Fitness Merit Badge
DESCRIPTION:Saturday morning June 18 10:00 am at JFK track\, Mr. Granger will be there for those who want to work on Personal Fitness Merit badge. \nBoys should bring their packets\, a pencil\, comfortable clothes (shorts and t-shirt)\, a gym towel\, and a bottle of water or a sports drink. I will need adults to help score\, so it’s not a drop-off. Depending on the number of boys involved it could take between 45 minutes and an hour. \nIf there are any questions\, parents or Scouts can contact me through email (montgomeryjgranger@gmail.com).
URL:https://bsatroop354.com/event/personal-fitness-merit-badge/
END:VEVENT
END:VCALENDAR