BEGIN:VCALENDAR
VERSION:2.0
PRODID:-//Port Jefferson Station - BSA Troop 354 - ECPv6.2.3.2//NONSGML v1.0//EN
CALSCALE:GREGORIAN
METHOD:PUBLISH
X-WR-CALNAME:Port Jefferson Station - BSA Troop 354
X-ORIGINAL-URL:https://bsatroop354.com
X-WR-CALDESC:Events for Port Jefferson Station - BSA Troop 354
REFRESH-INTERVAL;VALUE=DURATION:PT1H
X-Robots-Tag:noindex
X-PUBLISHED-TTL:PT1H
BEGIN:VTIMEZONE
TZID:America/New_York
BEGIN:DAYLIGHT
TZOFFSETFROM:-0500
TZOFFSETTO:-0400
TZNAME:EDT
DTSTART:20160313T070000
END:DAYLIGHT
BEGIN:STANDARD
TZOFFSETFROM:-0400
TZOFFSETTO:-0500
TZNAME:EST
DTSTART:20161106T060000
END:STANDARD
END:VTIMEZONE
BEGIN:VEVENT
DTSTART;TZID=America/New_York:20160530T193000
DTEND;TZID=America/New_York:20160530T210000
DTSTAMP:20260424T142636
CREATED:20160503T141839Z
LAST-MODIFIED:20160503T141839Z
UID:606-1464636600-1464642000@bsatroop354.com
SUMMARY:No Troop Meeting
DESCRIPTION:This is Memorial Day\, No School\, and No Scout Meeting.
URL:https://bsatroop354.com/event/no-troop-meeting-4/
END:VEVENT
END:VCALENDAR