BEGIN:VCALENDAR
VERSION:2.0
PRODID:-//Port Jefferson Station - BSA Troop 354 - ECPv6.2.3.2//NONSGML v1.0//EN
CALSCALE:GREGORIAN
METHOD:PUBLISH
X-ORIGINAL-URL:https://bsatroop354.com
X-WR-CALDESC:Events for Port Jefferson Station - BSA Troop 354
REFRESH-INTERVAL;VALUE=DURATION:PT1H
X-Robots-Tag:noindex
X-PUBLISHED-TTL:PT1H
BEGIN:VTIMEZONE
TZID:America/New_York
BEGIN:DAYLIGHT
TZOFFSETFROM:-0500
TZOFFSETTO:-0400
TZNAME:EDT
DTSTART:20160313T070000
END:DAYLIGHT
BEGIN:STANDARD
TZOFFSETFROM:-0400
TZOFFSETTO:-0500
TZNAME:EST
DTSTART:20161106T060000
END:STANDARD
END:VTIMEZONE
BEGIN:VEVENT
DTSTART;TZID=America/New_York:20160528T081500
DTEND;TZID=America/New_York:20160528T104500
DTSTAMP:20260424T162307
CREATED:20160503T141724Z
LAST-MODIFIED:20160503T141924Z
UID:605-1464423300-1464432300@bsatroop354.com
SUMMARY:Calverton Flag Placement
DESCRIPTION:This is the Calverton Flag Placement day.  We should car pool as much as we can.  We will meet at the Uncle Giuseppe’s Parking lot at 8:15 am on Saturday morning\, organize ourselves\, and leave the parking lot at 8:30.  The event starts at 9:30 am\, but the traffic gets very heavy going out there\, so we have to leave early. \nClass A uniforms.  This usually goes very quick\, and we should be back in Port Jeff Station by about 10:45.  If you can only attend one of these events (placement or pickup next weekend)\, go to the pickup because attendance is typically lower\, and we can use the help.
URL:https://bsatroop354.com/event/calverton-flag-placement-2/
END:VEVENT
END:VCALENDAR