BEGIN:VCALENDAR
VERSION:2.0
PRODID:-//Port Jefferson Station - BSA Troop 354 - ECPv6.2.3.2//NONSGML v1.0//EN
CALSCALE:GREGORIAN
METHOD:PUBLISH
X-ORIGINAL-URL:https://bsatroop354.com
X-WR-CALDESC:Events for Port Jefferson Station - BSA Troop 354
REFRESH-INTERVAL;VALUE=DURATION:PT1H
X-Robots-Tag:noindex
X-PUBLISHED-TTL:PT1H
BEGIN:VTIMEZONE
TZID:America/New_York
BEGIN:DAYLIGHT
TZOFFSETFROM:-0500
TZOFFSETTO:-0400
TZNAME:EDT
DTSTART:20160313T070000
END:DAYLIGHT
BEGIN:STANDARD
TZOFFSETFROM:-0400
TZOFFSETTO:-0500
TZNAME:EST
DTSTART:20161106T060000
END:STANDARD
END:VTIMEZONE
BEGIN:VEVENT
DTSTART;TZID=America/New_York:20160507T100000
DTEND;TZID=America/New_York:20160507T120000
DTSTAMP:20260424T162307
CREATED:20160121T203355Z
LAST-MODIFIED:20160425T134817Z
UID:486-1462615200-1462622400@bsatroop354.com
SUMMARY:Flower Sale Distribution Day
DESCRIPTION:This is the day we distribute the flowers to you.  Then you bring them to the people you sold them to. \nThe location for the pickup will be Norwood Avenue School\, front parking lot. \nYou can pick up your flowers between 10 and 12 in the morning at that location. \nWe will probably be meeting at that location at 8:00 am to sort out the flowers into the orders\, and we can use some help with that too. \nThere will not be any distribution of the orders until they are all sorted out.  This is a big and complicated job\, and we went them all sorted out first before we hand them out to make sure there are no mistakes.  Sometimes we have to make substitutions.  Maybe the supplier ran out of a color or type of plant.  We will do our best to satisfy every order exactly as it was ordered\, but please be patient with us\, and hopefully a little flexible.  If we have to make a substitution\, and it was in your flowers\, and you don’t like it\, we will work with you on substituting something else\, or a last resort is to return them and get your money back.  Don’t forget to say Happy Mother’s Day to all the Moms that day.
URL:https://bsatroop354.com/event/flower-sale-pickup/
LOCATION:Norwood Avenue School\, 290 Norwood Ave\, Port Jefferson Station\, NY\, 11776
END:VEVENT
END:VCALENDAR