BEGIN:VCALENDAR
VERSION:2.0
PRODID:-//Port Jefferson Station - BSA Troop 354 - ECPv6.2.3.2//NONSGML v1.0//EN
CALSCALE:GREGORIAN
METHOD:PUBLISH
X-WR-CALNAME:Port Jefferson Station - BSA Troop 354
X-ORIGINAL-URL:https://bsatroop354.com
X-WR-CALDESC:Events for Port Jefferson Station - BSA Troop 354
REFRESH-INTERVAL;VALUE=DURATION:PT1H
X-Robots-Tag:noindex
X-PUBLISHED-TTL:PT1H
BEGIN:VTIMEZONE
TZID:America/New_York
BEGIN:DAYLIGHT
TZOFFSETFROM:-0500
TZOFFSETTO:-0400
TZNAME:EDT
DTSTART:20160313T070000
END:DAYLIGHT
BEGIN:STANDARD
TZOFFSETFROM:-0400
TZOFFSETTO:-0500
TZNAME:EST
DTSTART:20161106T060000
END:STANDARD
END:VTIMEZONE
BEGIN:VEVENT
DTSTART;TZID=America/New_York:20160229T193000
DTEND;TZID=America/New_York:20160229T210000
DTSTAMP:20260424T194958
CREATED:20160208T193616Z
LAST-MODIFIED:20160302T161426Z
UID:508-1456774200-1456779600@bsatroop354.com
SUMMARY:Troop Meeting
DESCRIPTION:Monday night meeting at Clinton Ave School\, 7:30 to 9:00 pm. \nThe Webelos are visiting our troop tonight. Class A Uniforms \nMeeting Minutes (PDF)
URL:https://bsatroop354.com/event/troop-meeting-8/
END:VEVENT
END:VCALENDAR