BEGIN:VCALENDAR
VERSION:2.0
PRODID:-//Port Jefferson Station - BSA Troop 354 - ECPv6.2.3.2//NONSGML v1.0//EN
CALSCALE:GREGORIAN
METHOD:PUBLISH
X-WR-CALNAME:Port Jefferson Station - BSA Troop 354
X-ORIGINAL-URL:https://bsatroop354.com
X-WR-CALDESC:Events for Port Jefferson Station - BSA Troop 354
REFRESH-INTERVAL;VALUE=DURATION:PT1H
X-Robots-Tag:noindex
X-PUBLISHED-TTL:PT1H
BEGIN:VTIMEZONE
TZID:America/New_York
BEGIN:DAYLIGHT
TZOFFSETFROM:-0500
TZOFFSETTO:-0400
TZNAME:EDT
DTSTART:20160313T070000
END:DAYLIGHT
BEGIN:STANDARD
TZOFFSETFROM:-0400
TZOFFSETTO:-0500
TZNAME:EST
DTSTART:20161106T060000
END:STANDARD
END:VTIMEZONE
BEGIN:VEVENT
DTSTART;TZID=America/New_York:20160228T160000
DTEND;TZID=America/New_York:20160228T183000
DTSTAMP:20260424T194957
CREATED:20160128T204549Z
LAST-MODIFIED:20160208T193250Z
UID:488-1456675200-1456684200@bsatroop354.com
SUMMARY:Eagle Scout Fundraiser
DESCRIPTION:Joey Papile \n Eagle Scout Project Fundraiser  \nPasta Dinner  \nFebruary 28\, 2016  \n4:00-6:30  \nElk’s Lodge Centereach  \n41 Horseblock Road\, Centereach \nTickets prices \n$10.00 per person  \nTo purchase tickets please contact  \nJoey Papile @ 631-252-3019  \nor joeypapile@gmail.com
URL:https://bsatroop354.com/event/eagle-scout-fundraiser/
END:VEVENT
END:VCALENDAR