BEGIN:VCALENDAR
VERSION:2.0
PRODID:-//Port Jefferson Station - BSA Troop 354 - ECPv6.2.3.2//NONSGML v1.0//EN
CALSCALE:GREGORIAN
METHOD:PUBLISH
X-WR-CALNAME:Port Jefferson Station - BSA Troop 354
X-ORIGINAL-URL:https://bsatroop354.com
X-WR-CALDESC:Events for Port Jefferson Station - BSA Troop 354
REFRESH-INTERVAL;VALUE=DURATION:PT1H
X-Robots-Tag:noindex
X-PUBLISHED-TTL:PT1H
BEGIN:VTIMEZONE
TZID:America/New_York
BEGIN:DAYLIGHT
TZOFFSETFROM:-0500
TZOFFSETTO:-0400
TZNAME:EDT
DTSTART:20160313T070000
END:DAYLIGHT
BEGIN:STANDARD
TZOFFSETFROM:-0400
TZOFFSETTO:-0500
TZNAME:EST
DTSTART:20161106T060000
END:STANDARD
END:VTIMEZONE
BEGIN:VEVENT
DTSTART;TZID=America/New_York:20160201T193000
DTEND;TZID=America/New_York:20160201T210000
DTSTAMP:20260424T212552
CREATED:20151121T171238Z
LAST-MODIFIED:20160104T170943Z
UID:412-1454355000-1454360400@bsatroop354.com
SUMMARY:Court of Honor Night
DESCRIPTION:We are having a Court of Honor this evening to give the boys all the advancements they have earned over the past couple of months. \nParents are invited to attend to see the boys receive the awards. I could use some volunteers to bring some refreshments and snacks for that night. \nClass A Uniforms
URL:https://bsatroop354.com/event/troop-meeting-26/
END:VEVENT
END:VCALENDAR